BEGIN:VCALENDAR
VERSION:2.0
PRODID:-//Variant Vault Comics - ECPv6.15.20//NONSGML v1.0//EN
CALSCALE:GREGORIAN
METHOD:PUBLISH
X-WR-CALNAME:Variant Vault Comics
X-ORIGINAL-URL:https://variantvaultcomics.com
X-WR-CALDESC:Events for Variant Vault Comics
REFRESH-INTERVAL;VALUE=DURATION:PT1H
X-Robots-Tag:noindex
X-PUBLISHED-TTL:PT1H
BEGIN:VTIMEZONE
TZID:America/New_York
BEGIN:DAYLIGHT
TZOFFSETFROM:-0500
TZOFFSETTO:-0400
TZNAME:EDT
DTSTART:20240310T070000
END:DAYLIGHT
BEGIN:STANDARD
TZOFFSETFROM:-0400
TZOFFSETTO:-0500
TZNAME:EST
DTSTART:20241103T060000
END:STANDARD
BEGIN:DAYLIGHT
TZOFFSETFROM:-0500
TZOFFSETTO:-0400
TZNAME:EDT
DTSTART:20250309T070000
END:DAYLIGHT
BEGIN:STANDARD
TZOFFSETFROM:-0400
TZOFFSETTO:-0500
TZNAME:EST
DTSTART:20251102T060000
END:STANDARD
BEGIN:DAYLIGHT
TZOFFSETFROM:-0500
TZOFFSETTO:-0400
TZNAME:EDT
DTSTART:20260308T070000
END:DAYLIGHT
BEGIN:STANDARD
TZOFFSETFROM:-0400
TZOFFSETTO:-0500
TZNAME:EST
DTSTART:20261101T060000
END:STANDARD
END:VTIMEZONE
BEGIN:VEVENT
DTSTART;TZID=America/New_York:20251128T183000
DTEND;TZID=America/New_York:20251128T203000
DTSTAMP:20260423T122559
CREATED:20251125T030056Z
LAST-MODIFIED:20251125T031958Z
UID:1199-1764354600-1764361800@variantvaultcomics.com
SUMMARY:Sorcery
DESCRIPTION:Event: Sorcery: Contested Realm Play NightJoin us for an exciting evening of Sorcery TCG gameplay at [Store Name]! Whether you’re a seasoned Realmwalker or brand new to the game\, this is the perfect opportunity to learn\, play\, and explore everything the world of Sorcery has to offer. \nPlayers may bring their constructed decks or learn to play using store-provided demo decks (while supplies last). This event focuses on community growth\, teaching the game\, and friendly matches rather than competitive structure. \nAll skill levels are welcome.Prizes may include promo cards or participation rewards while supplies last. \nCome forge your story\, command powerful minions\, and reshape the battlefield through elemental magic — the Realm awaits!
URL:https://variantvaultcomics.com/event/sorcery/
LOCATION:Variant Vault Comics and Cards\, 2177 Kingsley Ave Suite 7\, Jacksonville\, FL\, 32065\, United States
ORGANIZER;CN="Variant Vault Comics & Cards":MAILTO:vvcomicsandcards@gmail.com
END:VEVENT
BEGIN:VEVENT
DTSTART;TZID=America/New_York:20251227T170000
DTEND;TZID=America/New_York:20251227T200000
DTSTAMP:20260423T122559
CREATED:20251125T023716Z
LAST-MODIFIED:20251125T023717Z
UID:1195-1766854800-1766865600@variantvaultcomics.com
SUMMARY:Pokemon Play EXPANDED
DESCRIPTION:For those Trainers who wish to play EXPANDED format of Pokémon\, come and join us on the 4th Saturday of the month! \nBring your deck and battle at Variant Vault Comics & Cards!Expanded format = cards from the 2011 Black & White through now\, so get creative with your builds!
URL:https://variantvaultcomics.com/event/pokemon-play-expanded-2/
LOCATION:Variant Vault Comics and Cards\, 2177 Kingsley Ave Suite 7\, Jacksonville\, FL\, 32065\, United States
ORGANIZER;CN="Variant Vault Comics & Cards":MAILTO:vvcomicsandcards@gmail.com
END:VEVENT
BEGIN:VEVENT
DTSTART;TZID=America/New_York:20251116T123000
DTEND;TZID=America/New_York:20251116T150000
DTSTAMP:20260423T122559
CREATED:20251110T131957Z
LAST-MODIFIED:20251110T141504Z
UID:647-1763296200-1763305200@variantvaultcomics.com
SUMMARY:Gundam
DESCRIPTION:  \nEvent: Gundam TCG Play Session\nJoin us for an exciting session of the Gundam Trading Card Game! Build your deck\, deploy your Mobile Suits\, and battle it out for supremacy in the Universal Century. Whether you’re a veteran pilot or just starting out\, come enjoy strategic gameplay\, friendly matches\, and the thrill of commanding your favorite Gundams. \nAll skill levels welcome — bring your deck and your fighting spirit \nPlease make sure that you are signed up under Bandai TCG+ \n 
URL:https://variantvaultcomics.com/event/gundam/
LOCATION:Variant Vault Comics and Cards\, 2177 Kingsley Ave Suite 7\, Jacksonville\, FL\, 32065\, United States
ORGANIZER;CN="Variant Vault Comics & Cards":MAILTO:vvcomicsandcards@gmail.com
END:VEVENT
BEGIN:VEVENT
DTSTART;TZID=America/New_York:20251116T170000
DTEND;TZID=America/New_York:20251116T190000
DTSTAMP:20260423T122559
CREATED:20251110T132718Z
LAST-MODIFIED:20251110T132722Z
UID:652-1763312400-1763319600@variantvaultcomics.com
SUMMARY:One Piece
DESCRIPTION:🔥 Set sail for battle! \nJoin the crew at Variant Vault for One Piece TCG Night! Bring your deck\, your crew\, and your best strategies. — all players welcome! \nEntry fee includes player card\, pack\, and winner prizes! \nPlease sign up on Bandai TCG + app and join us!
URL:https://variantvaultcomics.com/event/one-piece-3/
LOCATION:Variant Vault Comics and Cards\, 2177 Kingsley Ave Suite 7\, Jacksonville\, FL\, 32065\, United States
ORGANIZER;CN="Variant Vault Comics & Cards":MAILTO:vvcomicsandcards@gmail.com
END:VEVENT
BEGIN:VEVENT
DTSTART;TZID=America/New_York:20251111T183000
DTEND;TZID=America/New_York:20251111T203000
DTSTAMP:20260423T122559
CREATED:20251107T025855Z
LAST-MODIFIED:20251110T132418Z
UID:557-1762885800-1762893000@variantvaultcomics.com
SUMMARY:One Piece
DESCRIPTION:🔥 Set sail for battle!It’s One Piece TCG Night at Variant Vault! Bring your deck\, your crew\, and your best strategies.  All players welcome! \nEntry fee includes player card\, pack\, and winner prizes! \nPlease sign up on Bandai TCG + app and join us!
URL:https://variantvaultcomics.com/event/one-piece-2/
LOCATION:Variant Vault Comics and Cards\, 2177 Kingsley Ave Suite 7\, Jacksonville\, FL\, 32065\, United States
ORGANIZER;CN="Variant Vault Comics & Cards":MAILTO:vvcomicsandcards@gmail.com
END:VEVENT
BEGIN:VEVENT
DTSTART;TZID=America/New_York:20251105T183000
DTEND;TZID=America/New_York:20251105T203000
DTSTAMP:20260423T122559
CREATED:20251107T030916Z
LAST-MODIFIED:20251110T141306Z
UID:569-1762367400-1762374600@variantvaultcomics.com
SUMMARY:Pokemon Play!
DESCRIPTION:⚡ Pokémon League Night!Bring your deck\, trade\, and battle with local Trainers at Variant Vault Comics & Cards! \n👉 Sign up on Pokémon Play! Make sure to have a Player ID before the event. \nCome ‘Catch em all! \nEvent will be in Standard format.\n**We are a newer play store and do not have Pokémon play packs at this time. Event fee will cover a pack of cards chosen at random\, and winner will receive additional prize**
URL:https://variantvaultcomics.com/event/pokemon-play/
LOCATION:FL
END:VEVENT
BEGIN:VEVENT
DTSTART;TZID=America/New_York:20251128T183000
DTEND;TZID=America/New_York:20251128T203000
DTSTAMP:20260423T122559
CREATED:20251125T030056Z
LAST-MODIFIED:20251125T031958Z
UID:1199-1764354600-1764361800@variantvaultcomics.com
SUMMARY:Sorcery
DESCRIPTION:Event: Sorcery: Contested Realm Play NightJoin us for an exciting evening of Sorcery TCG gameplay at [Store Name]! Whether you’re a seasoned Realmwalker or brand new to the game\, this is the perfect opportunity to learn\, play\, and explore everything the world of Sorcery has to offer. \nPlayers may bring their constructed decks or learn to play using store-provided demo decks (while supplies last). This event focuses on community growth\, teaching the game\, and friendly matches rather than competitive structure. \nAll skill levels are welcome.Prizes may include promo cards or participation rewards while supplies last. \nCome forge your story\, command powerful minions\, and reshape the battlefield through elemental magic — the Realm awaits!
URL:https://variantvaultcomics.com/event/sorcery/
LOCATION:Variant Vault Comics and Cards\, 2177 Kingsley Ave Suite 7\, Jacksonville\, FL\, 32065\, United States
ORGANIZER;CN="Variant Vault Comics & Cards":MAILTO:vvcomicsandcards@gmail.com
END:VEVENT
BEGIN:VEVENT
DTSTART;TZID=America/New_York:20251206T170000
DTEND;TZID=America/New_York:20251206T200000
DTSTAMP:20260423T122559
CREATED:20251107T032122Z
LAST-MODIFIED:20251125T023419Z
UID:576-1765040400-1765051200@variantvaultcomics.com
SUMMARY:Pokémon Gym Leader Challenge
DESCRIPTION:💥 What is Gym Leader Challenge (GLC)?GLC is a fun\, single-type format where your 60-card deck can only include one of each card (except basic Energy) — and all Pokémon must share the same type! No duplicates\, no EX/V/VMAX cards — just creative decks and strategy. \nCome test you strategy deck building format as you become the best gym leader there is! \nThis event is for more advanced players. 1st Saturdays!
URL:https://variantvaultcomics.com/event/pokemon-gym-leader-challenge/
LOCATION:Variant Vault Comics and Cards\, 2177 Kingsley Ave Suite 7\, Jacksonville\, FL\, 32065\, United States
ORGANIZER;CN="Variant Vault Comics & Cards":MAILTO:vvcomicsandcards@gmail.com
END:VEVENT
BEGIN:VEVENT
DTSTART;TZID=America/New_York:20251116T123000
DTEND;TZID=America/New_York:20251116T150000
DTSTAMP:20260423T122559
CREATED:20251110T131957Z
LAST-MODIFIED:20251110T141504Z
UID:647-1763296200-1763305200@variantvaultcomics.com
SUMMARY:Gundam
DESCRIPTION:  \nEvent: Gundam TCG Play Session\nJoin us for an exciting session of the Gundam Trading Card Game! Build your deck\, deploy your Mobile Suits\, and battle it out for supremacy in the Universal Century. Whether you’re a veteran pilot or just starting out\, come enjoy strategic gameplay\, friendly matches\, and the thrill of commanding your favorite Gundams. \nAll skill levels welcome — bring your deck and your fighting spirit \nPlease make sure that you are signed up under Bandai TCG+ \n 
URL:https://variantvaultcomics.com/event/gundam/
LOCATION:Variant Vault Comics and Cards\, 2177 Kingsley Ave Suite 7\, Jacksonville\, FL\, 32065\, United States
ORGANIZER;CN="Variant Vault Comics & Cards":MAILTO:vvcomicsandcards@gmail.com
END:VEVENT
BEGIN:VEVENT
DTSTART;TZID=America/New_York:20251116T170000
DTEND;TZID=America/New_York:20251116T190000
DTSTAMP:20260423T122559
CREATED:20251110T132718Z
LAST-MODIFIED:20251110T132722Z
UID:652-1763312400-1763319600@variantvaultcomics.com
SUMMARY:One Piece
DESCRIPTION:🔥 Set sail for battle! \nJoin the crew at Variant Vault for One Piece TCG Night! Bring your deck\, your crew\, and your best strategies. — all players welcome! \nEntry fee includes player card\, pack\, and winner prizes! \nPlease sign up on Bandai TCG + app and join us!
URL:https://variantvaultcomics.com/event/one-piece-3/
LOCATION:Variant Vault Comics and Cards\, 2177 Kingsley Ave Suite 7\, Jacksonville\, FL\, 32065\, United States
ORGANIZER;CN="Variant Vault Comics & Cards":MAILTO:vvcomicsandcards@gmail.com
END:VEVENT
BEGIN:VEVENT
DTSTART;TZID=America/New_York:20251111T183000
DTEND;TZID=America/New_York:20251111T203000
DTSTAMP:20260423T122559
CREATED:20251107T025855Z
LAST-MODIFIED:20251110T132418Z
UID:557-1762885800-1762893000@variantvaultcomics.com
SUMMARY:One Piece
DESCRIPTION:🔥 Set sail for battle!It’s One Piece TCG Night at Variant Vault! Bring your deck\, your crew\, and your best strategies.  All players welcome! \nEntry fee includes player card\, pack\, and winner prizes! \nPlease sign up on Bandai TCG + app and join us!
URL:https://variantvaultcomics.com/event/one-piece-2/
LOCATION:Variant Vault Comics and Cards\, 2177 Kingsley Ave Suite 7\, Jacksonville\, FL\, 32065\, United States
ORGANIZER;CN="Variant Vault Comics & Cards":MAILTO:vvcomicsandcards@gmail.com
END:VEVENT
BEGIN:VEVENT
DTSTART;TZID=America/New_York:20251105T183000
DTEND;TZID=America/New_York:20251105T203000
DTSTAMP:20260423T122559
CREATED:20251107T030916Z
LAST-MODIFIED:20251110T141306Z
UID:569-1762367400-1762374600@variantvaultcomics.com
SUMMARY:Pokemon Play!
DESCRIPTION:⚡ Pokémon League Night!Bring your deck\, trade\, and battle with local Trainers at Variant Vault Comics & Cards! \n👉 Sign up on Pokémon Play! Make sure to have a Player ID before the event. \nCome ‘Catch em all! \nEvent will be in Standard format.\n**We are a newer play store and do not have Pokémon play packs at this time. Event fee will cover a pack of cards chosen at random\, and winner will receive additional prize**
URL:https://variantvaultcomics.com/event/pokemon-play/
LOCATION:FL
END:VEVENT
BEGIN:VEVENT
DTSTART;TZID=America/New_York:20251128T183000
DTEND;TZID=America/New_York:20251128T203000
DTSTAMP:20260423T122559
CREATED:20251125T030056Z
LAST-MODIFIED:20251125T031958Z
UID:1199-1764354600-1764361800@variantvaultcomics.com
SUMMARY:Sorcery
DESCRIPTION:Event: Sorcery: Contested Realm Play NightJoin us for an exciting evening of Sorcery TCG gameplay at [Store Name]! Whether you’re a seasoned Realmwalker or brand new to the game\, this is the perfect opportunity to learn\, play\, and explore everything the world of Sorcery has to offer. \nPlayers may bring their constructed decks or learn to play using store-provided demo decks (while supplies last). This event focuses on community growth\, teaching the game\, and friendly matches rather than competitive structure. \nAll skill levels are welcome.Prizes may include promo cards or participation rewards while supplies last. \nCome forge your story\, command powerful minions\, and reshape the battlefield through elemental magic — the Realm awaits!
URL:https://variantvaultcomics.com/event/sorcery/
LOCATION:Variant Vault Comics and Cards\, 2177 Kingsley Ave Suite 7\, Jacksonville\, FL\, 32065\, United States
ORGANIZER;CN="Variant Vault Comics & Cards":MAILTO:vvcomicsandcards@gmail.com
END:VEVENT
BEGIN:VEVENT
DTSTART;TZID=America/New_York:20251213T170000
DTEND;TZID=America/New_York:20251213T190000
DTSTAMP:20260423T122559
CREATED:20251125T025001Z
LAST-MODIFIED:20251125T025104Z
UID:1197-1765645200-1765652400@variantvaultcomics.com
SUMMARY:Play Pokémon Kids Day
DESCRIPTION:This event is going to be held on the 2nd Saturday of each month! \nThis is for all our littlest Pokémon Trainers to learn to play the POKEMON trading card game. Kids ages 13 and under can come join in and learn! \nWe will have battle academy available along with some Professors who will help guide you and your child through the amazing world of Pokémon! \nFor our youngest trainers in the making (those unable to read and not ready for gaming) there will be Pokémon Coloring sheets available! \nAnd don’t worry Professor Lydia will make sure your kiddos leave with some surprises along the way! Come join us at the Vault! (maybe you can even learn a little as well!) \n*Parents/guardians must stay on site\, this is not a drop off event. \n*Kids can be assisted by parents\, but should be able to read at some level for optimized learning!
URL:https://variantvaultcomics.com/event/play-pokemon-kids-day-2/
LOCATION:Variant Vault Comics and Cards\, 2177 Kingsley Ave Suite 7\, Jacksonville\, FL\, 32065\, United States
ORGANIZER;CN="Variant Vault Comics & Cards":MAILTO:vvcomicsandcards@gmail.com
END:VEVENT
BEGIN:VEVENT
DTSTART;TZID=America/New_York:20251116T123000
DTEND;TZID=America/New_York:20251116T150000
DTSTAMP:20260423T122559
CREATED:20251110T131957Z
LAST-MODIFIED:20251110T141504Z
UID:647-1763296200-1763305200@variantvaultcomics.com
SUMMARY:Gundam
DESCRIPTION:  \nEvent: Gundam TCG Play Session\nJoin us for an exciting session of the Gundam Trading Card Game! Build your deck\, deploy your Mobile Suits\, and battle it out for supremacy in the Universal Century. Whether you’re a veteran pilot or just starting out\, come enjoy strategic gameplay\, friendly matches\, and the thrill of commanding your favorite Gundams. \nAll skill levels welcome — bring your deck and your fighting spirit \nPlease make sure that you are signed up under Bandai TCG+ \n 
URL:https://variantvaultcomics.com/event/gundam/
LOCATION:Variant Vault Comics and Cards\, 2177 Kingsley Ave Suite 7\, Jacksonville\, FL\, 32065\, United States
ORGANIZER;CN="Variant Vault Comics & Cards":MAILTO:vvcomicsandcards@gmail.com
END:VEVENT
BEGIN:VEVENT
DTSTART;TZID=America/New_York:20251116T170000
DTEND;TZID=America/New_York:20251116T190000
DTSTAMP:20260423T122559
CREATED:20251110T132718Z
LAST-MODIFIED:20251110T132722Z
UID:652-1763312400-1763319600@variantvaultcomics.com
SUMMARY:One Piece
DESCRIPTION:🔥 Set sail for battle! \nJoin the crew at Variant Vault for One Piece TCG Night! Bring your deck\, your crew\, and your best strategies. — all players welcome! \nEntry fee includes player card\, pack\, and winner prizes! \nPlease sign up on Bandai TCG + app and join us!
URL:https://variantvaultcomics.com/event/one-piece-3/
LOCATION:Variant Vault Comics and Cards\, 2177 Kingsley Ave Suite 7\, Jacksonville\, FL\, 32065\, United States
ORGANIZER;CN="Variant Vault Comics & Cards":MAILTO:vvcomicsandcards@gmail.com
END:VEVENT
BEGIN:VEVENT
DTSTART;TZID=America/New_York:20251111T183000
DTEND;TZID=America/New_York:20251111T203000
DTSTAMP:20260423T122559
CREATED:20251107T025855Z
LAST-MODIFIED:20251110T132418Z
UID:557-1762885800-1762893000@variantvaultcomics.com
SUMMARY:One Piece
DESCRIPTION:🔥 Set sail for battle!It’s One Piece TCG Night at Variant Vault! Bring your deck\, your crew\, and your best strategies.  All players welcome! \nEntry fee includes player card\, pack\, and winner prizes! \nPlease sign up on Bandai TCG + app and join us!
URL:https://variantvaultcomics.com/event/one-piece-2/
LOCATION:Variant Vault Comics and Cards\, 2177 Kingsley Ave Suite 7\, Jacksonville\, FL\, 32065\, United States
ORGANIZER;CN="Variant Vault Comics & Cards":MAILTO:vvcomicsandcards@gmail.com
END:VEVENT
BEGIN:VEVENT
DTSTART;TZID=America/New_York:20251105T183000
DTEND;TZID=America/New_York:20251105T203000
DTSTAMP:20260423T122559
CREATED:20251107T030916Z
LAST-MODIFIED:20251110T141306Z
UID:569-1762367400-1762374600@variantvaultcomics.com
SUMMARY:Pokemon Play!
DESCRIPTION:⚡ Pokémon League Night!Bring your deck\, trade\, and battle with local Trainers at Variant Vault Comics & Cards! \n👉 Sign up on Pokémon Play! Make sure to have a Player ID before the event. \nCome ‘Catch em all! \nEvent will be in Standard format.\n**We are a newer play store and do not have Pokémon play packs at this time. Event fee will cover a pack of cards chosen at random\, and winner will receive additional prize**
URL:https://variantvaultcomics.com/event/pokemon-play/
LOCATION:FL
END:VEVENT
BEGIN:VEVENT
DTSTART;TZID=America/New_York:20251128T183000
DTEND;TZID=America/New_York:20251128T203000
DTSTAMP:20260423T122559
CREATED:20251125T030056Z
LAST-MODIFIED:20251125T031958Z
UID:1199-1764354600-1764361800@variantvaultcomics.com
SUMMARY:Sorcery
DESCRIPTION:Event: Sorcery: Contested Realm Play NightJoin us for an exciting evening of Sorcery TCG gameplay at [Store Name]! Whether you’re a seasoned Realmwalker or brand new to the game\, this is the perfect opportunity to learn\, play\, and explore everything the world of Sorcery has to offer. \nPlayers may bring their constructed decks or learn to play using store-provided demo decks (while supplies last). This event focuses on community growth\, teaching the game\, and friendly matches rather than competitive structure. \nAll skill levels are welcome.Prizes may include promo cards or participation rewards while supplies last. \nCome forge your story\, command powerful minions\, and reshape the battlefield through elemental magic — the Realm awaits!
URL:https://variantvaultcomics.com/event/sorcery/
LOCATION:Variant Vault Comics and Cards\, 2177 Kingsley Ave Suite 7\, Jacksonville\, FL\, 32065\, United States
ORGANIZER;CN="Variant Vault Comics & Cards":MAILTO:vvcomicsandcards@gmail.com
END:VEVENT
BEGIN:VEVENT
DTSTART;TZID=America/New_York:20251115T180000
DTEND;TZID=America/New_York:20251115T210000
DTSTAMP:20260423T122559
CREATED:20251106T172623Z
LAST-MODIFIED:20251107T023942Z
UID:546-1763229600-1763240400@variantvaultcomics.com
SUMMARY:Trading Card Night 3rd Saturday
DESCRIPTION:Trade Night — Every 3rd Saturday!Grab your binders and hang out with fellow collectors and players! Bring Pokémon\, One Piece\, Magic: The Gathering\, and MORE! \nBuy\, sell\, and trade responsibly in a friendly\, family-oriented space. \nThis event is meant for trades\, but if you need cash to make a trade fair we are okay with that! This is NOT a vendor event! \nWhen: Every 3rd Saturday of the monthWhere: Variant Vault Comics & Cards (Orange Park\, FL)Cost: Free to attend (trades only)
URL:https://variantvaultcomics.com/event/trading-card-night-3rd-saturday/
LOCATION:Variant Vault Comics and Cards\, 2177 Kingsley Ave Suite 7\, Jacksonville\, FL\, 32065\, United States
ORGANIZER;CN="Variant Vault Comics & Cards":MAILTO:vvcomicsandcards@gmail.com
END:VEVENT
BEGIN:VEVENT
DTSTART;TZID=America/New_York:20251116T123000
DTEND;TZID=America/New_York:20251116T150000
DTSTAMP:20260423T122559
CREATED:20251110T131957Z
LAST-MODIFIED:20251110T141504Z
UID:647-1763296200-1763305200@variantvaultcomics.com
SUMMARY:Gundam
DESCRIPTION:  \nEvent: Gundam TCG Play Session\nJoin us for an exciting session of the Gundam Trading Card Game! Build your deck\, deploy your Mobile Suits\, and battle it out for supremacy in the Universal Century. Whether you’re a veteran pilot or just starting out\, come enjoy strategic gameplay\, friendly matches\, and the thrill of commanding your favorite Gundams. \nAll skill levels welcome — bring your deck and your fighting spirit \nPlease make sure that you are signed up under Bandai TCG+ \n 
URL:https://variantvaultcomics.com/event/gundam/
LOCATION:Variant Vault Comics and Cards\, 2177 Kingsley Ave Suite 7\, Jacksonville\, FL\, 32065\, United States
ORGANIZER;CN="Variant Vault Comics & Cards":MAILTO:vvcomicsandcards@gmail.com
END:VEVENT
BEGIN:VEVENT
DTSTART;TZID=America/New_York:20251116T170000
DTEND;TZID=America/New_York:20251116T190000
DTSTAMP:20260423T122559
CREATED:20251110T132718Z
LAST-MODIFIED:20251110T132722Z
UID:652-1763312400-1763319600@variantvaultcomics.com
SUMMARY:One Piece
DESCRIPTION:🔥 Set sail for battle! \nJoin the crew at Variant Vault for One Piece TCG Night! Bring your deck\, your crew\, and your best strategies. — all players welcome! \nEntry fee includes player card\, pack\, and winner prizes! \nPlease sign up on Bandai TCG + app and join us!
URL:https://variantvaultcomics.com/event/one-piece-3/
LOCATION:Variant Vault Comics and Cards\, 2177 Kingsley Ave Suite 7\, Jacksonville\, FL\, 32065\, United States
ORGANIZER;CN="Variant Vault Comics & Cards":MAILTO:vvcomicsandcards@gmail.com
END:VEVENT
BEGIN:VEVENT
DTSTART;TZID=America/New_York:20251111T183000
DTEND;TZID=America/New_York:20251111T203000
DTSTAMP:20260423T122559
CREATED:20251107T025855Z
LAST-MODIFIED:20251110T132418Z
UID:557-1762885800-1762893000@variantvaultcomics.com
SUMMARY:One Piece
DESCRIPTION:🔥 Set sail for battle!It’s One Piece TCG Night at Variant Vault! Bring your deck\, your crew\, and your best strategies.  All players welcome! \nEntry fee includes player card\, pack\, and winner prizes! \nPlease sign up on Bandai TCG + app and join us!
URL:https://variantvaultcomics.com/event/one-piece-2/
LOCATION:Variant Vault Comics and Cards\, 2177 Kingsley Ave Suite 7\, Jacksonville\, FL\, 32065\, United States
ORGANIZER;CN="Variant Vault Comics & Cards":MAILTO:vvcomicsandcards@gmail.com
END:VEVENT
BEGIN:VEVENT
DTSTART;TZID=America/New_York:20251105T183000
DTEND;TZID=America/New_York:20251105T203000
DTSTAMP:20260423T122559
CREATED:20251107T030916Z
LAST-MODIFIED:20251110T141306Z
UID:569-1762367400-1762374600@variantvaultcomics.com
SUMMARY:Pokemon Play!
DESCRIPTION:⚡ Pokémon League Night!Bring your deck\, trade\, and battle with local Trainers at Variant Vault Comics & Cards! \n👉 Sign up on Pokémon Play! Make sure to have a Player ID before the event. \nCome ‘Catch em all! \nEvent will be in Standard format.\n**We are a newer play store and do not have Pokémon play packs at this time. Event fee will cover a pack of cards chosen at random\, and winner will receive additional prize**
URL:https://variantvaultcomics.com/event/pokemon-play/
LOCATION:FL
END:VEVENT
BEGIN:VEVENT
DTSTART;TZID=America/New_York:20251128T183000
DTEND;TZID=America/New_York:20251128T203000
DTSTAMP:20260423T122559
CREATED:20251125T030056Z
LAST-MODIFIED:20251125T031958Z
UID:1199-1764354600-1764361800@variantvaultcomics.com
SUMMARY:Sorcery
DESCRIPTION:Event: Sorcery: Contested Realm Play NightJoin us for an exciting evening of Sorcery TCG gameplay at [Store Name]! Whether you’re a seasoned Realmwalker or brand new to the game\, this is the perfect opportunity to learn\, play\, and explore everything the world of Sorcery has to offer. \nPlayers may bring their constructed decks or learn to play using store-provided demo decks (while supplies last). This event focuses on community growth\, teaching the game\, and friendly matches rather than competitive structure. \nAll skill levels are welcome.Prizes may include promo cards or participation rewards while supplies last. \nCome forge your story\, command powerful minions\, and reshape the battlefield through elemental magic — the Realm awaits!
URL:https://variantvaultcomics.com/event/sorcery/
LOCATION:Variant Vault Comics and Cards\, 2177 Kingsley Ave Suite 7\, Jacksonville\, FL\, 32065\, United States
ORGANIZER;CN="Variant Vault Comics & Cards":MAILTO:vvcomicsandcards@gmail.com
END:VEVENT
BEGIN:VEVENT
DTSTART;TZID=America/New_York:20251227T170000
DTEND;TZID=America/New_York:20251227T200000
DTSTAMP:20260423T122559
CREATED:20251125T023716Z
LAST-MODIFIED:20251125T023717Z
UID:1195-1766854800-1766865600@variantvaultcomics.com
SUMMARY:Pokemon Play EXPANDED
DESCRIPTION:For those Trainers who wish to play EXPANDED format of Pokémon\, come and join us on the 4th Saturday of the month! \nBring your deck and battle at Variant Vault Comics & Cards!Expanded format = cards from the 2011 Black & White through now\, so get creative with your builds!
URL:https://variantvaultcomics.com/event/pokemon-play-expanded-2/
LOCATION:Variant Vault Comics and Cards\, 2177 Kingsley Ave Suite 7\, Jacksonville\, FL\, 32065\, United States
ORGANIZER;CN="Variant Vault Comics & Cards":MAILTO:vvcomicsandcards@gmail.com
END:VEVENT
BEGIN:VEVENT
DTSTART;TZID=America/New_York:20251116T123000
DTEND;TZID=America/New_York:20251116T150000
DTSTAMP:20260423T122559
CREATED:20251110T131957Z
LAST-MODIFIED:20251110T141504Z
UID:647-1763296200-1763305200@variantvaultcomics.com
SUMMARY:Gundam
DESCRIPTION:  \nEvent: Gundam TCG Play Session\nJoin us for an exciting session of the Gundam Trading Card Game! Build your deck\, deploy your Mobile Suits\, and battle it out for supremacy in the Universal Century. Whether you’re a veteran pilot or just starting out\, come enjoy strategic gameplay\, friendly matches\, and the thrill of commanding your favorite Gundams. \nAll skill levels welcome — bring your deck and your fighting spirit \nPlease make sure that you are signed up under Bandai TCG+ \n 
URL:https://variantvaultcomics.com/event/gundam/
LOCATION:Variant Vault Comics and Cards\, 2177 Kingsley Ave Suite 7\, Jacksonville\, FL\, 32065\, United States
ORGANIZER;CN="Variant Vault Comics & Cards":MAILTO:vvcomicsandcards@gmail.com
END:VEVENT
BEGIN:VEVENT
DTSTART;TZID=America/New_York:20251116T170000
DTEND;TZID=America/New_York:20251116T190000
DTSTAMP:20260423T122559
CREATED:20251110T132718Z
LAST-MODIFIED:20251110T132722Z
UID:652-1763312400-1763319600@variantvaultcomics.com
SUMMARY:One Piece
DESCRIPTION:🔥 Set sail for battle! \nJoin the crew at Variant Vault for One Piece TCG Night! Bring your deck\, your crew\, and your best strategies. — all players welcome! \nEntry fee includes player card\, pack\, and winner prizes! \nPlease sign up on Bandai TCG + app and join us!
URL:https://variantvaultcomics.com/event/one-piece-3/
LOCATION:Variant Vault Comics and Cards\, 2177 Kingsley Ave Suite 7\, Jacksonville\, FL\, 32065\, United States
ORGANIZER;CN="Variant Vault Comics & Cards":MAILTO:vvcomicsandcards@gmail.com
END:VEVENT
BEGIN:VEVENT
DTSTART;TZID=America/New_York:20251111T183000
DTEND;TZID=America/New_York:20251111T203000
DTSTAMP:20260423T122559
CREATED:20251107T025855Z
LAST-MODIFIED:20251110T132418Z
UID:557-1762885800-1762893000@variantvaultcomics.com
SUMMARY:One Piece
DESCRIPTION:🔥 Set sail for battle!It’s One Piece TCG Night at Variant Vault! Bring your deck\, your crew\, and your best strategies.  All players welcome! \nEntry fee includes player card\, pack\, and winner prizes! \nPlease sign up on Bandai TCG + app and join us!
URL:https://variantvaultcomics.com/event/one-piece-2/
LOCATION:Variant Vault Comics and Cards\, 2177 Kingsley Ave Suite 7\, Jacksonville\, FL\, 32065\, United States
ORGANIZER;CN="Variant Vault Comics & Cards":MAILTO:vvcomicsandcards@gmail.com
END:VEVENT
BEGIN:VEVENT
DTSTART;TZID=America/New_York:20251105T183000
DTEND;TZID=America/New_York:20251105T203000
DTSTAMP:20260423T122559
CREATED:20251107T030916Z
LAST-MODIFIED:20251110T141306Z
UID:569-1762367400-1762374600@variantvaultcomics.com
SUMMARY:Pokemon Play!
DESCRIPTION:⚡ Pokémon League Night!Bring your deck\, trade\, and battle with local Trainers at Variant Vault Comics & Cards! \n👉 Sign up on Pokémon Play! Make sure to have a Player ID before the event. \nCome ‘Catch em all! \nEvent will be in Standard format.\n**We are a newer play store and do not have Pokémon play packs at this time. Event fee will cover a pack of cards chosen at random\, and winner will receive additional prize**
URL:https://variantvaultcomics.com/event/pokemon-play/
LOCATION:FL
END:VEVENT
END:VCALENDAR